BEGIN:VCALENDAR
VERSION:2.0
PRODID:-//Pact Training - ECPv6.15.20//NONSGML v1.0//EN
CALSCALE:GREGORIAN
METHOD:PUBLISH
X-WR-CALNAME:Pact Training
X-ORIGINAL-URL:https://www.pacttraining.co.uk
X-WR-CALDESC:Events for Pact Training
REFRESH-INTERVAL;VALUE=DURATION:PT1H
X-Robots-Tag:noindex
X-PUBLISHED-TTL:PT1H
BEGIN:VTIMEZONE
TZID:Europe/London
BEGIN:DAYLIGHT
TZOFFSETFROM:+0000
TZOFFSETTO:+0100
TZNAME:BST
DTSTART:20240331T010000
END:DAYLIGHT
BEGIN:STANDARD
TZOFFSETFROM:+0100
TZOFFSETTO:+0000
TZNAME:GMT
DTSTART:20241027T010000
END:STANDARD
BEGIN:DAYLIGHT
TZOFFSETFROM:+0000
TZOFFSETTO:+0100
TZNAME:BST
DTSTART:20250330T010000
END:DAYLIGHT
BEGIN:STANDARD
TZOFFSETFROM:+0100
TZOFFSETTO:+0000
TZNAME:GMT
DTSTART:20251026T010000
END:STANDARD
BEGIN:DAYLIGHT
TZOFFSETFROM:+0000
TZOFFSETTO:+0100
TZNAME:BST
DTSTART:20260329T010000
END:DAYLIGHT
BEGIN:STANDARD
TZOFFSETFROM:+0100
TZOFFSETTO:+0000
TZNAME:GMT
DTSTART:20261025T010000
END:STANDARD
END:VTIMEZONE
BEGIN:VEVENT
DTSTART;TZID=Europe/London:20250925T103000
DTEND;TZID=Europe/London:20250925T123000
DTSTAMP:20260422T094622
CREATED:20250924T120925Z
LAST-MODIFIED:20250924T120925Z
UID:3455-1758796200-1758803400@www.pacttraining.co.uk
SUMMARY:Understanding Pathological Demand Avoidance from all Angles
DESCRIPTION:Are you struggling to support a child who doesn’t seem to fit the typical profile of autism or ADHD? Have you heard about PDA but aren’t sure how it presents and is experienced to know if it fits for your situation?\nPDA (Pathological demand avoidance) is a confusing and often misunderstood profile of autism (and ADHD) and is becoming more well known but many are still in the dark about how it really impacts PDA children and adults\, what is needed to support PDA and how it interacts with existing autism and/or ADHD.\nIn this unique workshop\, we are bringing knowledge from the angles of parent\, PDAer\, school\, CAMHS and even wider family support\, to ensure that there is something for everyone with any connection with PDA\, whether professionally or personally. \nOnline I 25th September I 10.30am to 12.30 I Cost : £20 \nWe can’t wait to see you there! \nTo book: \nUnderstanding Pathological Demand Avoidance from all Angles
URL:https://www.pacttraining.co.uk/event/understanding-pathological-demand-avoidance-from-all-angles/
LOCATION:Online – Zoom
ATTACH;FMTTYPE=application/pdf:https://www.pacttraining.co.uk/wp-content/uploads/2025/09/PDA-Workshop-flyer-2_1.pdf-2.pdf
END:VEVENT
END:VCALENDAR