BEGIN:VCALENDAR
VERSION:2.0
PRODID:-//Pact Training - ECPv6.15.20//NONSGML v1.0//EN
CALSCALE:GREGORIAN
METHOD:PUBLISH
X-ORIGINAL-URL:https://www.pacttraining.co.uk
X-WR-CALDESC:Events for Pact Training
REFRESH-INTERVAL;VALUE=DURATION:PT1H
X-Robots-Tag:noindex
X-PUBLISHED-TTL:PT1H
BEGIN:VTIMEZONE
TZID:Europe/London
BEGIN:DAYLIGHT
TZOFFSETFROM:+0000
TZOFFSETTO:+0100
TZNAME:BST
DTSTART:20250330T010000
END:DAYLIGHT
BEGIN:STANDARD
TZOFFSETFROM:+0100
TZOFFSETTO:+0000
TZNAME:GMT
DTSTART:20251026T010000
END:STANDARD
BEGIN:DAYLIGHT
TZOFFSETFROM:+0000
TZOFFSETTO:+0100
TZNAME:BST
DTSTART:20260329T010000
END:DAYLIGHT
BEGIN:STANDARD
TZOFFSETFROM:+0100
TZOFFSETTO:+0000
TZNAME:GMT
DTSTART:20261025T010000
END:STANDARD
BEGIN:DAYLIGHT
TZOFFSETFROM:+0000
TZOFFSETTO:+0100
TZNAME:BST
DTSTART:20270328T010000
END:DAYLIGHT
BEGIN:STANDARD
TZOFFSETFROM:+0100
TZOFFSETTO:+0000
TZNAME:GMT
DTSTART:20271031T010000
END:STANDARD
END:VTIMEZONE
BEGIN:VEVENT
DTSTART;TZID=Europe/London:20260514T160000
DTEND;TZID=Europe/London:20260514T180000
DTSTAMP:20260420T024600
CREATED:20260122T115616Z
LAST-MODIFIED:20260129T122010Z
UID:3631-1778774400-1778781600@www.pacttraining.co.uk
SUMMARY:Autism & ADHD / AuDHD
DESCRIPTION:Speakers: Sally Trowse & Katie Trowse \nSally is an ADHD Clinical Nurse specialist has worked for her career supporting families living with ADHD from her unique perspective as an adult with ADHD. Katie\, a former local authority teacher and independent education consultant\, shares her perspective and knowledge on Autism and ADHD as a late-diagnosed AuDHD adult
URL:https://www.pacttraining.co.uk/event/autism-adhd-audhd/
LOCATION:Online – Zoom
CATEGORIES:A Hands on Conference
ATTACH;FMTTYPE=image/jpeg:https://www.pacttraining.co.uk/wp-content/uploads/2026/01/Autism-ADHD-AuDHD-May-2026-e1769689178188.jpg
END:VEVENT
END:VCALENDAR